BEGIN:VCALENDAR
VERSION:2.0
PRODID:-//Armenian Relief Society of Western USA - ECPv6.15.20//NONSGML v1.0//EN
CALSCALE:GREGORIAN
METHOD:PUBLISH
X-WR-CALNAME:Armenian Relief Society of Western USA
X-ORIGINAL-URL:https://arswestusa.org
X-WR-CALDESC:Events for Armenian Relief Society of Western USA
REFRESH-INTERVAL;VALUE=DURATION:PT1H
X-Robots-Tag:noindex
X-PUBLISHED-TTL:PT1H
BEGIN:VTIMEZONE
TZID:America/Los_Angeles
BEGIN:DAYLIGHT
TZOFFSETFROM:-0800
TZOFFSETTO:-0700
TZNAME:PDT
DTSTART:20230312T100000
END:DAYLIGHT
BEGIN:STANDARD
TZOFFSETFROM:-0700
TZOFFSETTO:-0800
TZNAME:PST
DTSTART:20231105T090000
END:STANDARD
BEGIN:DAYLIGHT
TZOFFSETFROM:-0800
TZOFFSETTO:-0700
TZNAME:PDT
DTSTART:20240310T100000
END:DAYLIGHT
BEGIN:STANDARD
TZOFFSETFROM:-0700
TZOFFSETTO:-0800
TZNAME:PST
DTSTART:20241103T090000
END:STANDARD
BEGIN:DAYLIGHT
TZOFFSETFROM:-0800
TZOFFSETTO:-0700
TZNAME:PDT
DTSTART:20250309T100000
END:DAYLIGHT
BEGIN:STANDARD
TZOFFSETFROM:-0700
TZOFFSETTO:-0800
TZNAME:PST
DTSTART:20251102T090000
END:STANDARD
END:VTIMEZONE
BEGIN:VEVENT
DTSTART;TZID=America/Los_Angeles:20240217T190000
DTEND;TZID=America/Los_Angeles:20240217T190000
DTSTAMP:20260419T223655
CREATED:20240122T184945Z
LAST-MODIFIED:20240122T184945Z
UID:1380-1708196400-1708196400@arswestusa.org
SUMMARY:Valentine's Masquerade Dinner Dance
DESCRIPTION:For more information\, please call Siroun at 559.917.6971
URL:https://arswestusa.org/event/valentines-masquerade-dinner-dance/
LOCATION:Shish Kebob House\, 6620 W Flamingo Rd #8\, Las Vegas\, NV\, 89103\, United States
CATEGORIES:Chapter Events
END:VEVENT
END:VCALENDAR