BEGIN:VCALENDAR
VERSION:2.0
PRODID:-//Armenian Relief Society of Western USA - ECPv6.15.20//NONSGML v1.0//EN
CALSCALE:GREGORIAN
METHOD:PUBLISH
X-ORIGINAL-URL:https://arswestusa.org
X-WR-CALDESC:Events for Armenian Relief Society of Western USA
REFRESH-INTERVAL;VALUE=DURATION:PT1H
X-Robots-Tag:noindex
X-PUBLISHED-TTL:PT1H
BEGIN:VTIMEZONE
TZID:America/Los_Angeles
BEGIN:DAYLIGHT
TZOFFSETFROM:-0800
TZOFFSETTO:-0700
TZNAME:PDT
DTSTART:20230312T100000
END:DAYLIGHT
BEGIN:STANDARD
TZOFFSETFROM:-0700
TZOFFSETTO:-0800
TZNAME:PST
DTSTART:20231105T090000
END:STANDARD
BEGIN:DAYLIGHT
TZOFFSETFROM:-0800
TZOFFSETTO:-0700
TZNAME:PDT
DTSTART:20240310T100000
END:DAYLIGHT
BEGIN:STANDARD
TZOFFSETFROM:-0700
TZOFFSETTO:-0800
TZNAME:PST
DTSTART:20241103T090000
END:STANDARD
BEGIN:DAYLIGHT
TZOFFSETFROM:-0800
TZOFFSETTO:-0700
TZNAME:PDT
DTSTART:20250309T100000
END:DAYLIGHT
BEGIN:STANDARD
TZOFFSETFROM:-0700
TZOFFSETTO:-0800
TZNAME:PST
DTSTART:20251102T090000
END:STANDARD
END:VTIMEZONE
BEGIN:VEVENT
DTSTART;TZID=America/Los_Angeles:20241012T130000
DTEND;TZID=America/Los_Angeles:20241012T160000
DTSTAMP:20260419T092837
CREATED:20240911T235620Z
LAST-MODIFIED:20240912T012637Z
UID:1538-1728738000-1728748800@arswestusa.org
SUMMARY:90th Anniversary of the ARS Oakland Erepouni Chapter
DESCRIPTION:ARS Oakland Erepouni Chapter is celebrating 90 years of service on Saturday\, October 12\, 2024\, from 1:oo to 400 p.m.\, at Creekside Commons\, 135 Carol Ln.\, Lafayette\, California. Tickets are $90\, Children 8-14: $45. Zelle: arserepounichapter@gmail.com
URL:https://arswestusa.org/event/90th-anniversary-of-the-ars-oakland-erepouni-chapter/
LOCATION:Creekside Commons\, 1035 Carol Lane\, Lafayette\, CA\, 94549\, United States
CATEGORIES:Chapter Events
ORGANIZER;CN="ARS Erepouni Chapter":MAILTO:arserepounichapter@gmail.com
END:VEVENT
END:VCALENDAR